BEGIN:VCALENDAR
VERSION:2.0
PRODID:-//Robert Devoll, DDS, PhD - ECPv4.6.19//NONSGML v1.0//EN
CALSCALE:GREGORIAN
METHOD:PUBLISH
X-WR-CALNAME:Robert Devoll, DDS, PhD
X-ORIGINAL-URL:http://www.welovetomakeyousmile.com
X-WR-CALDESC:Events for Robert Devoll, DDS, PhD
BEGIN:VEVENT
DTSTART;TZID=UTC+0:20151101T183000
DTEND;TZID=UTC+0:20151101T203000
DTSTAMP:20260421T202251
CREATED:20150513T204053Z
LAST-MODIFIED:20151016T194327Z
UID:337-1446402600-1446409800@www.welovetomakeyousmile.com
SUMMARY:All-On-4 Treatment Program
DESCRIPTION:Utilizing the All-On-4 Treatment Concept\nImmediate restoration of the fully edentulous patient. Presented by STEPHEN SPOON\, CDT and sponsored by Clear Lake Periodontics\, Dr. Robert Devoll and Nobel Biocare. \nCourse Overview\nThis program will be presented by Steve Spoon\, CDT\, of Miracle Dental Lab\, and will focus on the immediate restoration of the fully edentulous patient. Mr. Spoon will discuss the critical factors necessary to provide fixed implant supported restorations. \nConsidering the graftless approach allows for reduced treatment time\, single-stage surgical reconstructions\, and immediate loading. This eliminates the need for transitional dentures\, therefore increasing the rate f treatment acceptance by patients. \nLearning Objectives\n\nSetting patient expectations\nDenture and surgical guides\nDay of surgery – loading of the interim hybrid\nHands-on “all-on-one impression”\nFinal hybrid before and after\n\nAttendees Will Receive\n-2 CEUs \n» Download this flier for print \nPlease\nRSVP by calling Dr. Devoll’s office at 281-338-1760\n
URL:http://www.welovetomakeyousmile.com/event/all-on-4-treatment-program/
LOCATION:2202 Broadway St.\, Pearland\, TX\, 77581\, United States
END:VEVENT
END:VCALENDAR