BEGIN:VCALENDAR
VERSION:2.0
PRODID:-//Robert Devoll, DDS, PhD - ECPv4.6.19//NONSGML v1.0//EN
CALSCALE:GREGORIAN
METHOD:PUBLISH
X-WR-CALNAME:Robert Devoll, DDS, PhD
X-ORIGINAL-URL:http://www.welovetomakeyousmile.com
X-WR-CALDESC:Events for Robert Devoll, DDS, PhD
BEGIN:VEVENT
DTSTART;TZID=UTC+0:20160728T173000
DTEND;TZID=UTC+0:20160728T193000
DTSTAMP:20260421T201855
CREATED:20160606T204641Z
LAST-MODIFIED:20160606T204843Z
UID:530-1469727000-1469734200@www.welovetomakeyousmile.com
SUMMARY:Gingival Recession Demystified
DESCRIPTION:Gingival Recession Demystified \nSponsored by Clear Lake Periodontics \nPresented by Dr. Robert Devoll \nCourse Summary: \nDuring this informative presentation we will discuss the factors that every clinician needs to consider when evaluating gingival recession – including. \n\nWhat causes it\nHow it progresses\nContributing factors\nGenetic influences\nCellular mechanisms involved\nWhen is it really a problem\nCan it be stopped\nTreatment options\nWhat is attached gingiva and does it really matter\n\nDownload Flyer \n
URL:http://www.welovetomakeyousmile.com/event/gingival-recession-demystified/
LOCATION:501 N Wesley Drive TX \, League City\, TX\, 77573\, United States
END:VEVENT
END:VCALENDAR