BEGIN:VCALENDAR
VERSION:2.0
PRODID:-//Robert Devoll, DDS, PhD - ECPv4.6.19//NONSGML v1.0//EN
CALSCALE:GREGORIAN
METHOD:PUBLISH
X-WR-CALNAME:Robert Devoll, DDS, PhD
X-ORIGINAL-URL:http://www.welovetomakeyousmile.com
X-WR-CALDESC:Events for Robert Devoll, DDS, PhD
BEGIN:VEVENT
DTSTART;TZID=UTC+0:20161108T180000
DTEND;TZID=UTC+0:20161108T203000
DTSTAMP:20260421T201854
CREATED:20160810T190926Z
LAST-MODIFIED:20160912T165700Z
UID:540-1478628000-1478637000@www.welovetomakeyousmile.com
SUMMARY:Diagnosis and Treatment of Myofascial and TMJ Pain of the Head & Neck
DESCRIPTION:2 CDE Credits \nPRESENTER: \n\nDR. ROBERT DEVOLL\n\nOBJECTIVES \n\nDiscuss the definition of myofascial pain\nDiscuss how TMJ disorder relates to myofascial pain\nDescribe the head & neck anatomy involved in myofascial pain\nDefine trigger points in the head & neck area and how they can be located\nDiscuss treatment strategies including trigger point injections\nDescribe various trigger point medications including onabotulinumtoxinA (Botox\, Xeomin) and local anesthetics\nDiscuss the use of onabotulinumtoxinA (Botox\, Xeomin) for migraine and headache treatment\n\nThis seminar is suitable for Dentist\, Dental Hygienists\, Dental Assistants and all other Dental Team Members. \nAttendees must RSVP at least 48 hours prior to the meeting by calling 281-338-1760. \nCheck-In will be in the Ballroom from 5:45 – 6:15. \nMeal will be ready at 6:00. \nPresentation will begin at 6:30. \n
URL:http://www.welovetomakeyousmile.com/event/myofascial-tmj-pain-of-the-head-and-neck/
LOCATION:501 N Wesley Drive TX \, League City\, TX\, 77573\, United States
END:VEVENT
END:VCALENDAR